BEGIN:VCALENDAR
VERSION:2.0
PRODID:-//Tukios.com/
BEGIN:VEVENT
UID:a84b22df-8cc1-4ac1-be6c-bd39b4d7133e@www.wolffuneralservices.com
DTSTAMP:20260420T201336Z
DTSTART:20260422
SUMMARY:Interment
DESCRIPTION:
URL:https://www.wolffuneralservices.com/obituaries/sarah-mcdaniel
LOCATION: 12339 Morton-Marathon Rd  Forest MS 39074
GEO:32.2242809;-89.4190287
END:VEVENT
END:VCALENDAR