BEGIN:VCALENDAR
VERSION:2.0
PRODID:-//Tukios.com/
BEGIN:VEVENT
UID:4e8227ae-586a-4c82-8986-fbbd4d58ff0f@www.wolffuneralservices.com
DTSTAMP:20260420T201921Z
DTSTART:20260422T150000Z
DTEND:20260422T160000Z
SUMMARY:Funeral Service
DESCRIPTION:
URL:https://www.wolffuneralservices.com/obituaries/sarah-mcdaniel
LOCATION: 11565 Morton-Marathon Rd  Forest MS 39074
GEO:32.2395224;-89.5034903
END:VEVENT
END:VCALENDAR