BEGIN:VCALENDAR
VERSION:2.0
PRODID:-//Tukios.com/
BEGIN:VEVENT
UID:bf8dd5fa-0f7f-4eaa-8b01-67523ebcb1d3@www.wolffuneralservices.com
DTSTAMP:20260420T201545Z
DTSTART:20260422T140000Z
DTEND:20260422T144500Z
SUMMARY:Visitation
DESCRIPTION:
URL:https://www.wolffuneralservices.com/obituaries/sarah-mcdaniel
LOCATION: 11565 Morton-Marathon Rd  Forest MS 39074
GEO:32.2395224;-89.5034903
END:VEVENT
END:VCALENDAR