BEGIN:VCALENDAR
VERSION:2.0
PRODID:-//Tukios.com/
BEGIN:VEVENT
UID:5b5c8628-7708-4b31-94b6-a59ce9a5bbc4@www.wolffuneralservices.com
DTSTAMP:20260425T201056Z
DTSTART:20260426T170000Z
DTEND:20260426T184500Z
SUMMARY:Visitation
DESCRIPTION:
URL:https://www.wolffuneralservices.com/obituaries/isaiah-washington
LOCATION: 29 S 2nd St  Morton MS 39117
GEO:32.3512964;-89.6584748
END:VEVENT
END:VCALENDAR