BEGIN:VCALENDAR
VERSION:2.0
PRODID:-//Tukios.com/
BEGIN:VEVENT
UID:846f5aac-589d-4cd7-9550-873aedd7b89d@www.wolffuneralservices.com
DTSTAMP:20260424T213724Z
DTSTART:20260502T160000Z
DTEND:20260502T170000Z
SUMMARY:Funeral Service
DESCRIPTION:
URL:https://www.wolffuneralservices.com/obituaries/ashley-beavers
LOCATION: 136 Front Street  Lake MS 39092
GEO:32.3437282;-89.3271797
END:VEVENT
END:VCALENDAR