BEGIN:VCALENDAR
VERSION:2.0
PRODID:-//Tukios.com/
BEGIN:VEVENT
UID:f1489344-acbc-4cef-b5b9-8bf90d8e1099@www.wolffuneralservices.com
DTSTAMP:20260424T213826Z
DTSTART:20260502T150000Z
DTEND:20260502T154500Z
SUMMARY:Visitation
DESCRIPTION:
URL:https://www.wolffuneralservices.com/obituaries/ashley-beavers
LOCATION: 136 Front Street  Lake MS 39092
GEO:32.3437282;-89.3271797
END:VEVENT
END:VCALENDAR